
BEGIN:VCALENDAR
VERSION:2.0
PRODID:GET THE LED OUT//EN
CALSCALE:GREGORIAN
BEGIN:VTIMEZONE
TZID:America/New_York
BEGIN:STANDARD
DTSTART:20071104T020000
TZOFFSETFROM:-0500
TZOFFSETTO:-0400
TZNAME:EST
END:STANDARD
BEGIN:DAYLIGHT
DTSTART:20070311T020000
TZOFFSETFROM:-0400
TZOFFSETTO:-0500
TZNAME:EDT
END:DAYLIGHT
END:VTIMEZONE
X-WR-CALNAME:GET THE LED OUT
BEGIN:VEVENT
CREATED:20230109T011755Z
UID:2006
DTEND;TZID=America/New_York:20230415T213000
DTSTART;TZID=America/New_York:20230415T193000
DTSTAMP:20230109T011755Z
LOCATION:Luhrs Center
DESCRIPTION:Reminder for GET THE LED OUT
SUMMARY:GET THE LED OUT
ORGANIZER:Luhrs Center
URL;VALUE=URI:https://luhrscenter.com/event/get-the-led-out/
TRANSP:OPAQUE
BEGIN:VALARM
ACTION:DISPLAY
TRIGGER;VALUE=DATE-TIME:20230415T193000
DESCRIPTION:Reminder for GET THE LED OUT
END:VALARM
END:VEVENT
END:VCALENDAR

	