
BEGIN:VCALENDAR
VERSION:2.0
PRODID:The Pout-Pout Fish//EN
CALSCALE:GREGORIAN
BEGIN:VTIMEZONE
TZID:America/New_York
BEGIN:STANDARD
DTSTART:20071104T020000
TZOFFSETFROM:-0500
TZOFFSETTO:-0400
TZNAME:EST
END:STANDARD
BEGIN:DAYLIGHT
DTSTART:20070311T020000
TZOFFSETFROM:-0400
TZOFFSETTO:-0500
TZNAME:EDT
END:DAYLIGHT
END:VTIMEZONE
X-WR-CALNAME:The Pout-Pout Fish
BEGIN:VEVENT
CREATED:20230109T134634Z
UID:2030
DTEND;TZID=America/New_York:20230429T121500
DTSTART;TZID=America/New_York:20230429T110000
DTSTAMP:20230109T134634Z
LOCATION:Luhrs Center
DESCRIPTION:Reminder for The Pout-Pout Fish
SUMMARY:The Pout-Pout Fish
ORGANIZER:Luhrs Center
URL;VALUE=URI:https://luhrscenter.com/event/the-pout-pout-fish/
TRANSP:OPAQUE
BEGIN:VALARM
ACTION:DISPLAY
TRIGGER;VALUE=DATE-TIME:20230429T110000
DESCRIPTION:Reminder for The Pout-Pout Fish
END:VALARM
END:VEVENT
END:VCALENDAR

	