
BEGIN:VCALENDAR
VERSION:2.0
PRODID:Airmen of Note//EN
CALSCALE:GREGORIAN
BEGIN:VTIMEZONE
TZID:America/New_York
BEGIN:STANDARD
DTSTART:20071104T020000
TZOFFSETFROM:-0500
TZOFFSETTO:-0400
TZNAME:EST
END:STANDARD
BEGIN:DAYLIGHT
DTSTART:20070311T020000
TZOFFSETFROM:-0400
TZOFFSETTO:-0500
TZNAME:EDT
END:DAYLIGHT
END:VTIMEZONE
X-WR-CALNAME:Airmen of Note
BEGIN:VEVENT
CREATED:20230109T140710Z
UID:2034
DTEND;TZID=America/New_York:20230622T210000
DTSTART;TZID=America/New_York:20230622T193000
DTSTAMP:20230109T140710Z
LOCATION:Luhrs Center
DESCRIPTION:Reminder for Airmen of Note
SUMMARY:Airmen of Note
ORGANIZER:Luhrs Center
URL;VALUE=URI:https://luhrscenter.com/event/airmen-of-note/
TRANSP:OPAQUE
BEGIN:VALARM
ACTION:DISPLAY
TRIGGER;VALUE=DATE-TIME:20230622T193000
DESCRIPTION:Reminder for Airmen of Note
END:VALARM
END:VEVENT
END:VCALENDAR

	