
BEGIN:VCALENDAR
VERSION:2.0
PRODID:TRAVELING WHILE BLACK VR EXHIBIT//EN
CALSCALE:GREGORIAN
BEGIN:VTIMEZONE
TZID:America/New_York
BEGIN:STANDARD
DTSTART:20071104T020000
TZOFFSETFROM:-0500
TZOFFSETTO:-0400
TZNAME:EST
END:STANDARD
BEGIN:DAYLIGHT
DTSTART:20070311T020000
TZOFFSETFROM:-0400
TZOFFSETTO:-0500
TZNAME:EDT
END:DAYLIGHT
END:VTIMEZONE
X-WR-CALNAME:TRAVELING WHILE BLACK VR EXHIBIT
BEGIN:VEVENT
CREATED:20230120T194955Z
UID:2066
DTEND;TZID=America/New_York:20230508T153000
DTSTART;TZID=America/New_York:20230508T100000
DTSTAMP:20230120T194955Z
LOCATION:Luhrs Center
DESCRIPTION:Reminder for TRAVELING WHILE BLACK VR EXHIBIT
SUMMARY:TRAVELING WHILE BLACK VR EXHIBIT
ORGANIZER:Luhrs Center
URL;VALUE=URI:https://luhrscenter.com/event/traveling-while-black-vr-exhibit/
TRANSP:OPAQUE
BEGIN:VALARM
ACTION:DISPLAY
TRIGGER;VALUE=DATE-TIME:20230508T100000
DESCRIPTION:Reminder for TRAVELING WHILE BLACK VR EXHIBIT
END:VALARM
END:VEVENT
END:VCALENDAR

	