
BEGIN:VCALENDAR
VERSION:2.0
PRODID:Broadway Lovers: Richard Troxell and Melissa Errico//EN
CALSCALE:GREGORIAN
BEGIN:VTIMEZONE
TZID:America/New_York
BEGIN:STANDARD
DTSTART:20071104T020000
TZOFFSETFROM:-0500
TZOFFSETTO:-0400
TZNAME:EST
END:STANDARD
BEGIN:DAYLIGHT
DTSTART:20070311T020000
TZOFFSETFROM:-0400
TZOFFSETTO:-0500
TZNAME:EDT
END:DAYLIGHT
END:VTIMEZONE
X-WR-CALNAME:Broadway Lovers: Richard Troxell and Melissa Errico
BEGIN:VEVENT
CREATED:20230405T120603Z
UID:2152
DTEND;TZID=America/New_York:20230722T213000
DTSTART;TZID=America/New_York:20230722T190000
DTSTAMP:20230405T120603Z
LOCATION:Luhrs Center
DESCRIPTION:Reminder for Broadway Lovers: Richard Troxell and Melissa Errico
SUMMARY:Broadway Lovers: Richard Troxell and Melissa Errico
ORGANIZER:Luhrs Center
URL;VALUE=URI:https://luhrscenter.com/event/broadway-lovers-richard-troxell-and-melissa-errico/
TRANSP:OPAQUE
BEGIN:VALARM
ACTION:DISPLAY
TRIGGER;VALUE=DATE-TIME:20230722T190000
DESCRIPTION:Reminder for Broadway Lovers: Richard Troxell and Melissa Errico
END:VALARM
END:VEVENT
END:VCALENDAR

	