
BEGIN:VCALENDAR
VERSION:2.0
PRODID:One Man Star Wars Trilogy//EN
CALSCALE:GREGORIAN
BEGIN:VTIMEZONE
TZID:America/New_York
BEGIN:STANDARD
DTSTART:20071104T020000
TZOFFSETFROM:-0500
TZOFFSETTO:-0400
TZNAME:EST
END:STANDARD
BEGIN:DAYLIGHT
DTSTART:20070311T020000
TZOFFSETFROM:-0400
TZOFFSETTO:-0500
TZNAME:EDT
END:DAYLIGHT
END:VTIMEZONE
X-WR-CALNAME:One Man Star Wars Trilogy
BEGIN:VEVENT
CREATED:20230702T032814Z
UID:2238
DTEND;TZID=America/New_York:20231026T213000
DTSTART;TZID=America/New_York:20231026T193000
DTSTAMP:20230702T032814Z
LOCATION:Luhrs Center
DESCRIPTION:Reminder for One Man Star Wars Trilogy
SUMMARY:One Man Star Wars Trilogy
ORGANIZER:Luhrs Center
URL;VALUE=URI:https://luhrscenter.com/event/one-man-star-wars-trilogy/
TRANSP:OPAQUE
BEGIN:VALARM
ACTION:DISPLAY
TRIGGER;VALUE=DATE-TIME:20231026T193000
DESCRIPTION:Reminder for One Man Star Wars Trilogy
END:VALARM
END:VEVENT
END:VCALENDAR

	