
BEGIN:VCALENDAR
VERSION:2.0
PRODID:Cirque Musica Holiday Wonderland//EN
CALSCALE:GREGORIAN
BEGIN:VTIMEZONE
TZID:America/New_York
BEGIN:STANDARD
DTSTART:20071104T020000
TZOFFSETFROM:-0500
TZOFFSETTO:-0400
TZNAME:EST
END:STANDARD
BEGIN:DAYLIGHT
DTSTART:20070311T020000
TZOFFSETFROM:-0400
TZOFFSETTO:-0500
TZNAME:EDT
END:DAYLIGHT
END:VTIMEZONE
X-WR-CALNAME:Cirque Musica Holiday Wonderland
BEGIN:VEVENT
CREATED:20230702T140605Z
UID:2245
DTEND;TZID=America/New_York:20231212T213000
DTSTART;TZID=America/New_York:20231212T193000
DTSTAMP:20230702T140605Z
LOCATION:Luhrs Center
DESCRIPTION:Reminder for Cirque Musica Holiday Wonderland
SUMMARY:Cirque Musica Holiday Wonderland
ORGANIZER:Luhrs Center
URL;VALUE=URI:https://luhrscenter.com/event/cirque-musica-holiday-wonderland/
TRANSP:OPAQUE
BEGIN:VALARM
ACTION:DISPLAY
TRIGGER;VALUE=DATE-TIME:20231212T193000
DESCRIPTION:Reminder for Cirque Musica Holiday Wonderland
END:VALARM
END:VEVENT
END:VCALENDAR

	