
BEGIN:VCALENDAR
VERSION:2.0
PRODID:Snow White and the Seven Dwarfs//EN
CALSCALE:GREGORIAN
BEGIN:VTIMEZONE
TZID:America/New_York
BEGIN:STANDARD
DTSTART:20071104T020000
TZOFFSETFROM:-0500
TZOFFSETTO:-0400
TZNAME:EST
END:STANDARD
BEGIN:DAYLIGHT
DTSTART:20070311T020000
TZOFFSETFROM:-0400
TZOFFSETTO:-0500
TZNAME:EDT
END:DAYLIGHT
END:VTIMEZONE
X-WR-CALNAME:Snow White and the Seven Dwarfs
BEGIN:VEVENT
CREATED:20230703T183410Z
UID:2247
DTEND;TZID=America/New_York:20240118T213000
DTSTART;TZID=America/New_York:20240118T193000
DTSTAMP:20230703T183410Z
LOCATION:Luhrs Center
DESCRIPTION:Reminder for Snow White and the Seven Dwarfs
SUMMARY:Snow White and the Seven Dwarfs
ORGANIZER:Luhrs Center
URL;VALUE=URI:https://luhrscenter.com/event/snow-white-and-the-seven-dwarfs/
TRANSP:OPAQUE
BEGIN:VALARM
ACTION:DISPLAY
TRIGGER;VALUE=DATE-TIME:20240118T193000
DESCRIPTION:Reminder for Snow White and the Seven Dwarfs
END:VALARM
END:VEVENT
END:VCALENDAR

	