
BEGIN:VCALENDAR
VERSION:2.0
PRODID:Menopause The Musical 2: Cruising Through &#8216;The Change&#8217;®//EN
CALSCALE:GREGORIAN
BEGIN:VTIMEZONE
TZID:America/New_York
BEGIN:STANDARD
DTSTART:20071104T020000
TZOFFSETFROM:-0500
TZOFFSETTO:-0400
TZNAME:EST
END:STANDARD
BEGIN:DAYLIGHT
DTSTART:20070311T020000
TZOFFSETFROM:-0400
TZOFFSETTO:-0500
TZNAME:EDT
END:DAYLIGHT
END:VTIMEZONE
X-WR-CALNAME:Menopause The Musical 2: Cruising Through &#8216;The Change&#8217;®
BEGIN:VEVENT
CREATED:20230703T205111Z
UID:2263
DTEND;TZID=America/New_York:20240209T213000
DTSTART;TZID=America/New_York:20240209T193000
DTSTAMP:20230703T205111Z
LOCATION:Luhrs Center
DESCRIPTION:Reminder for Menopause The Musical 2: Cruising Through &#8216;The Change&#8217;®
SUMMARY:Menopause The Musical 2: Cruising Through &#8216;The Change&#8217;®
ORGANIZER:Luhrs Center
URL;VALUE=URI:https://luhrscenter.com/event/menopause-the-musical-2-cruising-through-the-change/
TRANSP:OPAQUE
BEGIN:VALARM
ACTION:DISPLAY
TRIGGER;VALUE=DATE-TIME:20240209T193000
DESCRIPTION:Reminder for Menopause The Musical 2: Cruising Through &#8216;The Change&#8217;®
END:VALARM
END:VEVENT
END:VCALENDAR

	