
BEGIN:VCALENDAR
VERSION:2.0
PRODID:Atlanta Rhythm Section &#038; Pure Prairie League: 50 Years Together!//EN
CALSCALE:GREGORIAN
BEGIN:VTIMEZONE
TZID:America/New_York
BEGIN:STANDARD
DTSTART:20071104T020000
TZOFFSETFROM:-0500
TZOFFSETTO:-0400
TZNAME:EST
END:STANDARD
BEGIN:DAYLIGHT
DTSTART:20070311T020000
TZOFFSETFROM:-0400
TZOFFSETTO:-0500
TZNAME:EDT
END:DAYLIGHT
END:VTIMEZONE
X-WR-CALNAME:Atlanta Rhythm Section &#038; Pure Prairie League: 50 Years Together!
BEGIN:VEVENT
CREATED:20230703T221136Z
UID:2269
DTEND;TZID=America/New_York:20240224T213000
DTSTART;TZID=America/New_York:20240224T193000
DTSTAMP:20230703T221136Z
LOCATION:Luhrs Center
DESCRIPTION:Reminder for Atlanta Rhythm Section &#038; Pure Prairie League: 50 Years Together!
SUMMARY:Atlanta Rhythm Section &#038; Pure Prairie League: 50 Years Together!
ORGANIZER:Luhrs Center
URL;VALUE=URI:https://luhrscenter.com/event/atlanta-rhythm-section-pure-prairie-league-50-years-together/
TRANSP:OPAQUE
BEGIN:VALARM
ACTION:DISPLAY
TRIGGER;VALUE=DATE-TIME:20240224T193000
DESCRIPTION:Reminder for Atlanta Rhythm Section &#038; Pure Prairie League: 50 Years Together!
END:VALARM
END:VEVENT
END:VCALENDAR

	