
BEGIN:VCALENDAR
VERSION:2.0
PRODID:Small Island Big Song//EN
CALSCALE:GREGORIAN
BEGIN:VTIMEZONE
TZID:America/New_York
BEGIN:STANDARD
DTSTART:20071104T020000
TZOFFSETFROM:-0500
TZOFFSETTO:-0400
TZNAME:EST
END:STANDARD
BEGIN:DAYLIGHT
DTSTART:20070311T020000
TZOFFSETFROM:-0400
TZOFFSETTO:-0500
TZNAME:EDT
END:DAYLIGHT
END:VTIMEZONE
X-WR-CALNAME:Small Island Big Song
BEGIN:VEVENT
CREATED:20231129T120355Z
UID:2784
DTEND;TZID=America/New_York:20240325T203000
DTSTART;TZID=America/New_York:20240325T190000
DTSTAMP:20231129T120355Z
LOCATION:Luhrs Center
DESCRIPTION:Reminder for Small Island Big Song
SUMMARY:Small Island Big Song
ORGANIZER:Luhrs Center
URL;VALUE=URI:https://luhrscenter.com/event/small-island-big-song/
TRANSP:OPAQUE
BEGIN:VALARM
ACTION:DISPLAY
TRIGGER;VALUE=DATE-TIME:20240325T190000
DESCRIPTION:Reminder for Small Island Big Song
END:VALARM
END:VEVENT
END:VCALENDAR

	