
BEGIN:VCALENDAR
VERSION:2.0
PRODID:Dinosaur World Live//EN
CALSCALE:GREGORIAN
BEGIN:VTIMEZONE
TZID:America/New_York
BEGIN:STANDARD
DTSTART:20071104T020000
TZOFFSETFROM:-0500
TZOFFSETTO:-0400
TZNAME:EST
END:STANDARD
BEGIN:DAYLIGHT
DTSTART:20070311T020000
TZOFFSETFROM:-0400
TZOFFSETTO:-0500
TZNAME:EDT
END:DAYLIGHT
END:VTIMEZONE
X-WR-CALNAME:Dinosaur World Live
BEGIN:VEVENT
CREATED:20240108T160729Z
UID:2831
DTEND;TZID=America/New_York:20240428T170000
DTSTART;TZID=America/New_York:20240428T150000
DTSTAMP:20240108T160729Z
LOCATION:Luhrs Center
DESCRIPTION:Reminder for Dinosaur World Live
SUMMARY:Dinosaur World Live
ORGANIZER:Luhrs Center
URL;VALUE=URI:https://luhrscenter.com/event/dinosaur-world-live/
TRANSP:OPAQUE
BEGIN:VALARM
ACTION:DISPLAY
TRIGGER;VALUE=DATE-TIME:20240428T150000
DESCRIPTION:Reminder for Dinosaur World Live
END:VALARM
END:VEVENT
END:VCALENDAR

	