
BEGIN:VCALENDAR
VERSION:2.0
PRODID:Doug Tallamy//EN
CALSCALE:GREGORIAN
BEGIN:VTIMEZONE
TZID:America/New_York
BEGIN:STANDARD
DTSTART:20071104T020000
TZOFFSETFROM:-0500
TZOFFSETTO:-0400
TZNAME:EST
END:STANDARD
BEGIN:DAYLIGHT
DTSTART:20070311T020000
TZOFFSETFROM:-0400
TZOFFSETTO:-0500
TZNAME:EDT
END:DAYLIGHT
END:VTIMEZONE
X-WR-CALNAME:Doug Tallamy
BEGIN:VEVENT
CREATED:20240307T182924Z
UID:2956
DTEND;TZID=America/New_York:20240403T190000
DTSTART;TZID=America/New_York:20240403T180000
DTSTAMP:20240307T182924Z
LOCATION:Luhrs Center
DESCRIPTION:Reminder for Doug Tallamy
SUMMARY:Doug Tallamy
ORGANIZER:Luhrs Center
URL;VALUE=URI:https://luhrscenter.com/event/doug-tallamy/
TRANSP:OPAQUE
BEGIN:VALARM
ACTION:DISPLAY
TRIGGER;VALUE=DATE-TIME:20240403T180000
DESCRIPTION:Reminder for Doug Tallamy
END:VALARM
END:VEVENT
END:VCALENDAR

	