
BEGIN:VCALENDAR
VERSION:2.0
PRODID:The Marshall Tucker Band//EN
CALSCALE:GREGORIAN
BEGIN:VTIMEZONE
TZID:America/New_York
BEGIN:STANDARD
DTSTART:20071104T020000
TZOFFSETFROM:-0500
TZOFFSETTO:-0400
TZNAME:EST
END:STANDARD
BEGIN:DAYLIGHT
DTSTART:20070311T020000
TZOFFSETFROM:-0400
TZOFFSETTO:-0500
TZNAME:EDT
END:DAYLIGHT
END:VTIMEZONE
X-WR-CALNAME:The Marshall Tucker Band
BEGIN:VEVENT
CREATED:20240416T140036Z
UID:3051
DTEND;TZID=America/New_York:20240802T213000
DTSTART;TZID=America/New_York:20240802T193000
DTSTAMP:20240416T140036Z
LOCATION:Luhrs Center
DESCRIPTION:Reminder for The Marshall Tucker Band
SUMMARY:The Marshall Tucker Band
ORGANIZER:Luhrs Center
URL;VALUE=URI:https://luhrscenter.com/event/the-marshall-tucker-band/
TRANSP:OPAQUE
BEGIN:VALARM
ACTION:DISPLAY
TRIGGER;VALUE=DATE-TIME:20240802T193000
DESCRIPTION:Reminder for The Marshall Tucker Band
END:VALARM
END:VEVENT
END:VCALENDAR

	