
BEGIN:VCALENDAR
VERSION:2.0
PRODID:Nitty Gritty Dirt Band//EN
CALSCALE:GREGORIAN
BEGIN:VTIMEZONE
TZID:America/New_York
BEGIN:STANDARD
DTSTART:20071104T020000
TZOFFSETFROM:-0500
TZOFFSETTO:-0400
TZNAME:EST
END:STANDARD
BEGIN:DAYLIGHT
DTSTART:20070311T020000
TZOFFSETFROM:-0400
TZOFFSETTO:-0500
TZNAME:EDT
END:DAYLIGHT
END:VTIMEZONE
X-WR-CALNAME:Nitty Gritty Dirt Band
BEGIN:VEVENT
CREATED:20240416T141040Z
UID:3056
DTEND;TZID=America/New_York:20241012T213000
DTSTART;TZID=America/New_York:20241012T193000
DTSTAMP:20240416T141040Z
LOCATION:Luhrs Center
DESCRIPTION:Reminder for Nitty Gritty Dirt Band
SUMMARY:Nitty Gritty Dirt Band
ORGANIZER:Luhrs Center
URL;VALUE=URI:https://luhrscenter.com/event/nitty-gritty-dirt-band-2/
TRANSP:OPAQUE
BEGIN:VALARM
ACTION:DISPLAY
TRIGGER;VALUE=DATE-TIME:20241012T193000
DESCRIPTION:Reminder for Nitty Gritty Dirt Band
END:VALARM
END:VEVENT
END:VCALENDAR

	