
BEGIN:VCALENDAR
VERSION:2.0
PRODID:NEIL BERG&#8217;S 50 YEARS OF ROCK AND ROLL//EN
CALSCALE:GREGORIAN
BEGIN:VTIMEZONE
TZID:America/New_York
BEGIN:STANDARD
DTSTART:20071104T020000
TZOFFSETFROM:-0500
TZOFFSETTO:-0400
TZNAME:EST
END:STANDARD
BEGIN:DAYLIGHT
DTSTART:20070311T020000
TZOFFSETFROM:-0400
TZOFFSETTO:-0500
TZNAME:EDT
END:DAYLIGHT
END:VTIMEZONE
X-WR-CALNAME:NEIL BERG&#8217;S 50 YEARS OF ROCK AND ROLL
BEGIN:VEVENT
CREATED:20240708T145848Z
UID:3172
DTEND;TZID=America/New_York:20241018T213000
DTSTART;TZID=America/New_York:20241018T193000
DTSTAMP:20240708T145848Z
LOCATION:Luhrs Center
DESCRIPTION:Reminder for NEIL BERG&#8217;S 50 YEARS OF ROCK AND ROLL
SUMMARY:NEIL BERG&#8217;S 50 YEARS OF ROCK AND ROLL
ORGANIZER:Luhrs Center
URL;VALUE=URI:https://luhrscenter.com/event/neil-bergs-fifty-years/
TRANSP:OPAQUE
BEGIN:VALARM
ACTION:DISPLAY
TRIGGER;VALUE=DATE-TIME:20241018T193000
DESCRIPTION:Reminder for NEIL BERG&#8217;S 50 YEARS OF ROCK AND ROLL
END:VALARM
END:VEVENT
END:VCALENDAR

	