
BEGIN:VCALENDAR
VERSION:2.0
PRODID:The Canine Stars 4pm//EN
CALSCALE:GREGORIAN
BEGIN:VTIMEZONE
TZID:America/New_York
BEGIN:STANDARD
DTSTART:20071104T020000
TZOFFSETFROM:-0500
TZOFFSETTO:-0400
TZNAME:EST
END:STANDARD
BEGIN:DAYLIGHT
DTSTART:20070311T020000
TZOFFSETFROM:-0400
TZOFFSETTO:-0500
TZNAME:EDT
END:DAYLIGHT
END:VTIMEZONE
X-WR-CALNAME:The Canine Stars 4pm
BEGIN:VEVENT
CREATED:20240708T151538Z
UID:3201
DTEND;TZID=America/New_York:20250216T173000
DTSTART;TZID=America/New_York:20250216T160000
DTSTAMP:20240708T151538Z
LOCATION:Luhrs Center
DESCRIPTION:Reminder for The Canine Stars 4pm
SUMMARY:The Canine Stars 4pm
ORGANIZER:Luhrs Center
URL;VALUE=URI:https://luhrscenter.com/event/the-canine-stars-4pm/
TRANSP:OPAQUE
BEGIN:VALARM
ACTION:DISPLAY
TRIGGER;VALUE=DATE-TIME:20250216T160000
DESCRIPTION:Reminder for The Canine Stars 4pm
END:VALARM
END:VEVENT
END:VCALENDAR

	