
BEGIN:VCALENDAR
VERSION:2.0
PRODID:The Oak Ridge Boys//EN
CALSCALE:GREGORIAN
BEGIN:VTIMEZONE
TZID:America/New_York
BEGIN:STANDARD
DTSTART:20071104T020000
TZOFFSETFROM:-0500
TZOFFSETTO:-0400
TZNAME:EST
END:STANDARD
BEGIN:DAYLIGHT
DTSTART:20070311T020000
TZOFFSETFROM:-0400
TZOFFSETTO:-0500
TZNAME:EDT
END:DAYLIGHT
END:VTIMEZONE
X-WR-CALNAME:The Oak Ridge Boys
BEGIN:VEVENT
CREATED:20240909T144306Z
UID:3369
DTEND;TZID=America/New_York:20241130T213000
DTSTART;TZID=America/New_York:20241130T193000
DTSTAMP:20240909T144306Z
LOCATION:Luhrs Center
DESCRIPTION:Reminder for The Oak Ridge Boys
SUMMARY:The Oak Ridge Boys
ORGANIZER:Luhrs Center
URL;VALUE=URI:https://luhrscenter.com/event/the-oak-ridge-boys/
TRANSP:OPAQUE
BEGIN:VALARM
ACTION:DISPLAY
TRIGGER;VALUE=DATE-TIME:20241130T193000
DESCRIPTION:Reminder for The Oak Ridge Boys
END:VALARM
END:VEVENT
END:VCALENDAR

	