
BEGIN:VCALENDAR
VERSION:2.0
PRODID:2025 Pennsylvania Gospel Festival//EN
CALSCALE:GREGORIAN
BEGIN:VTIMEZONE
TZID:America/New_York
BEGIN:STANDARD
DTSTART:20071104T020000
TZOFFSETFROM:-0500
TZOFFSETTO:-0400
TZNAME:EST
END:STANDARD
BEGIN:DAYLIGHT
DTSTART:20070311T020000
TZOFFSETFROM:-0400
TZOFFSETTO:-0500
TZNAME:EDT
END:DAYLIGHT
END:VTIMEZONE
X-WR-CALNAME:2025 Pennsylvania Gospel Festival
BEGIN:VEVENT
CREATED:20241106T155743Z
UID:3486
DTEND;TZID=America/New_York:20250831T170000
DTSTART;TZID=America/New_York:20250829T190000
DTSTAMP:20241106T155743Z
LOCATION:Luhrs Center
DESCRIPTION:Reminder for 2025 Pennsylvania Gospel Festival
SUMMARY:2025 Pennsylvania Gospel Festival
ORGANIZER:Luhrs Center
URL;VALUE=URI:https://luhrscenter.com/event/2025-pennsylvania-gospel-festival/
TRANSP:OPAQUE
BEGIN:VALARM
ACTION:DISPLAY
TRIGGER;VALUE=DATE-TIME:20250829T190000
DESCRIPTION:Reminder for 2025 Pennsylvania Gospel Festival
END:VALARM
END:VEVENT
END:VCALENDAR

	