
BEGIN:VCALENDAR
VERSION:2.0
PRODID:STAR WARS//EN
CALSCALE:GREGORIAN
BEGIN:VTIMEZONE
TZID:America/New_York
BEGIN:STANDARD
DTSTART:20071104T020000
TZOFFSETFROM:-0500
TZOFFSETTO:-0400
TZNAME:EST
END:STANDARD
BEGIN:DAYLIGHT
DTSTART:20070311T020000
TZOFFSETFROM:-0400
TZOFFSETTO:-0500
TZNAME:EDT
END:DAYLIGHT
END:VTIMEZONE
X-WR-CALNAME:STAR WARS
BEGIN:VEVENT
CREATED:20250130T133717Z
UID:3593
DTEND;TZID=America/New_York:20250717T213000
DTSTART;TZID=America/New_York:20250717T190000
DTSTAMP:20250130T133717Z
LOCATION:Luhrs Center
DESCRIPTION:Reminder for STAR WARS
SUMMARY:STAR WARS
ORGANIZER:Luhrs Center
URL;VALUE=URI:https://luhrscenter.com/event/star-wars/
TRANSP:OPAQUE
BEGIN:VALARM
ACTION:DISPLAY
TRIGGER;VALUE=DATE-TIME:20250717T190000
DESCRIPTION:Reminder for STAR WARS
END:VALARM
END:VEVENT
END:VCALENDAR

	