
BEGIN:VCALENDAR
VERSION:2.0
PRODID:Shippensburg University Community Orchestra//EN
CALSCALE:GREGORIAN
BEGIN:VTIMEZONE
TZID:America/New_York
BEGIN:STANDARD
DTSTART:20071104T020000
TZOFFSETFROM:-0500
TZOFFSETTO:-0400
TZNAME:EST
END:STANDARD
BEGIN:DAYLIGHT
DTSTART:20070311T020000
TZOFFSETFROM:-0400
TZOFFSETTO:-0500
TZNAME:EDT
END:DAYLIGHT
END:VTIMEZONE
X-WR-CALNAME:Shippensburg University Community Orchestra
BEGIN:VEVENT
CREATED:20250311T155050Z
UID:3635
DTEND;TZID=America/New_York:20251107T203000
DTSTART;TZID=America/New_York:20251107T190000
DTSTAMP:20250311T155050Z
LOCATION:Luhrs Center
DESCRIPTION:Reminder for Shippensburg University Community Orchestra
SUMMARY:Shippensburg University Community Orchestra
ORGANIZER:Luhrs Center
URL;VALUE=URI:https://luhrscenter.com/event/shippensburg-university-community-orchestra-2/
TRANSP:OPAQUE
BEGIN:VALARM
ACTION:DISPLAY
TRIGGER;VALUE=DATE-TIME:20251107T190000
DESCRIPTION:Reminder for Shippensburg University Community Orchestra
END:VALARM
END:VEVENT
END:VCALENDAR

	