
BEGIN:VCALENDAR
VERSION:2.0
PRODID:Shippensburg University Jazz Ensemble//EN
CALSCALE:GREGORIAN
BEGIN:VTIMEZONE
TZID:America/New_York
BEGIN:STANDARD
DTSTART:20071104T020000
TZOFFSETFROM:-0500
TZOFFSETTO:-0400
TZNAME:EST
END:STANDARD
BEGIN:DAYLIGHT
DTSTART:20070311T020000
TZOFFSETFROM:-0400
TZOFFSETTO:-0500
TZNAME:EDT
END:DAYLIGHT
END:VTIMEZONE
X-WR-CALNAME:Shippensburg University Jazz Ensemble
BEGIN:VEVENT
CREATED:20250325T143654Z
UID:3655
DTEND;TZID=America/New_York:20250414T203000
DTSTART;TZID=America/New_York:20250414T190000
DTSTAMP:20250325T143654Z
LOCATION:Luhrs Center
DESCRIPTION:Reminder for Shippensburg University Jazz Ensemble
SUMMARY:Shippensburg University Jazz Ensemble
ORGANIZER:Luhrs Center
URL;VALUE=URI:https://luhrscenter.com/event/shippensburg-university-jazzn-ensemble-4/
TRANSP:OPAQUE
BEGIN:VALARM
ACTION:DISPLAY
TRIGGER;VALUE=DATE-TIME:20250414T190000
DESCRIPTION:Reminder for Shippensburg University Jazz Ensemble
END:VALARM
END:VEVENT
END:VCALENDAR

	