
BEGIN:VCALENDAR
VERSION:2.0
PRODID:Celtic Woman//EN
CALSCALE:GREGORIAN
BEGIN:VTIMEZONE
TZID:America/New_York
BEGIN:STANDARD
DTSTART:20071104T020000
TZOFFSETFROM:-0500
TZOFFSETTO:-0400
TZNAME:EST
END:STANDARD
BEGIN:DAYLIGHT
DTSTART:20070311T020000
TZOFFSETFROM:-0400
TZOFFSETTO:-0500
TZNAME:EDT
END:DAYLIGHT
END:VTIMEZONE
X-WR-CALNAME:Celtic Woman
BEGIN:VEVENT
CREATED:20250603T140000Z
UID:3749
DTEND;TZID=America/New_York:20251210T210000
DTSTART;TZID=America/New_York:20251210T190000
DTSTAMP:20250603T140000Z
LOCATION:Luhrs Center
DESCRIPTION:Reminder for Celtic Woman
SUMMARY:Celtic Woman
ORGANIZER:Luhrs Center
URL;VALUE=URI:https://luhrscenter.com/event/celtic-woman/
TRANSP:OPAQUE
BEGIN:VALARM
ACTION:DISPLAY
TRIGGER;VALUE=DATE-TIME:20251210T190000
DESCRIPTION:Reminder for Celtic Woman
END:VALARM
END:VEVENT
END:VCALENDAR

	