
BEGIN:VCALENDAR
VERSION:2.0
PRODID:The Modern Gentlemen//EN
CALSCALE:GREGORIAN
BEGIN:VTIMEZONE
TZID:America/New_York
BEGIN:STANDARD
DTSTART:20071104T020000
TZOFFSETFROM:-0500
TZOFFSETTO:-0400
TZNAME:EST
END:STANDARD
BEGIN:DAYLIGHT
DTSTART:20070311T020000
TZOFFSETFROM:-0400
TZOFFSETTO:-0500
TZNAME:EDT
END:DAYLIGHT
END:VTIMEZONE
X-WR-CALNAME:The Modern Gentlemen
BEGIN:VEVENT
CREATED:20250603T140000Z
UID:3757
DTEND;TZID=America/New_York:20251216T210000
DTSTART;TZID=America/New_York:20251216T193000
DTSTAMP:20250603T140000Z
LOCATION:Luhrs Center
DESCRIPTION:Reminder for The Modern Gentlemen
SUMMARY:The Modern Gentlemen
ORGANIZER:Luhrs Center
URL;VALUE=URI:https://luhrscenter.com/event/the-modern-gentlemen/
TRANSP:OPAQUE
BEGIN:VALARM
ACTION:DISPLAY
TRIGGER;VALUE=DATE-TIME:20251216T193000
DESCRIPTION:Reminder for The Modern Gentlemen
END:VALARM
END:VEVENT
END:VCALENDAR

	