
BEGIN:VCALENDAR
VERSION:2.0
PRODID:Wizard of Oz On Ice//EN
CALSCALE:GREGORIAN
BEGIN:VTIMEZONE
TZID:America/New_York
BEGIN:STANDARD
DTSTART:20071104T020000
TZOFFSETFROM:-0500
TZOFFSETTO:-0400
TZNAME:EST
END:STANDARD
BEGIN:DAYLIGHT
DTSTART:20070311T020000
TZOFFSETFROM:-0400
TZOFFSETTO:-0500
TZNAME:EDT
END:DAYLIGHT
END:VTIMEZONE
X-WR-CALNAME:Wizard of Oz On Ice
BEGIN:VEVENT
CREATED:20250603T140000Z
UID:3774
DTEND;TZID=America/New_York:20260226T210000
DTSTART;TZID=America/New_York:20260226T190000
DTSTAMP:20250603T140000Z
LOCATION:Luhrs Center
DESCRIPTION:Reminder for Wizard of Oz On Ice
SUMMARY:Wizard of Oz On Ice
ORGANIZER:Luhrs Center
URL;VALUE=URI:https://luhrscenter.com/event/wizard-of-oz-on-ice/
TRANSP:OPAQUE
BEGIN:VALARM
ACTION:DISPLAY
TRIGGER;VALUE=DATE-TIME:20260226T190000
DESCRIPTION:Reminder for Wizard of Oz On Ice
END:VALARM
END:VEVENT
END:VCALENDAR

	