
BEGIN:VCALENDAR
VERSION:2.0
PRODID:Celtic Thunder Ireland//EN
CALSCALE:GREGORIAN
BEGIN:VTIMEZONE
TZID:America/New_York
BEGIN:STANDARD
DTSTART:20071104T020000
TZOFFSETFROM:-0500
TZOFFSETTO:-0400
TZNAME:EST
END:STANDARD
BEGIN:DAYLIGHT
DTSTART:20070311T020000
TZOFFSETFROM:-0400
TZOFFSETTO:-0500
TZNAME:EDT
END:DAYLIGHT
END:VTIMEZONE
X-WR-CALNAME:Celtic Thunder Ireland
BEGIN:VEVENT
CREATED:20211004T150908Z
UID:389
DTEND;TZID=America/New_York:20260421T055616
DTSTART;TZID=America/New_York:20220310T193000
DTSTAMP:20211004T150908Z
LOCATION:Luhrs Center
DESCRIPTION:Reminder for Celtic Thunder Ireland
SUMMARY:Celtic Thunder Ireland
ORGANIZER:Luhrs Center
URL;VALUE=URI:https://luhrscenter.com/event/celtic-thunder-ireland/
TRANSP:OPAQUE
BEGIN:VALARM
ACTION:DISPLAY
TRIGGER;VALUE=DATE-TIME:20220310T193000
DESCRIPTION:Reminder for Celtic Thunder Ireland
END:VALARM
END:VEVENT
END:VCALENDAR

	